BEGIN:VCALENDAR
VERSION:2.0
PRODID:-//213.186.33.4//NONSGML kigkonsult.se iCalcreator 2.20//
CALSCALE:GREGORIAN
METHOD:PUBLISH
X-WR-TIMEZONE:Europe/Paris
BEGIN:VEVENT
UID:event514@GUMS Paris
DTSTAMP:20260421T104638Z
CATEGORIES:Sorties randonnée
DESCRIPTION:Les étangs de la Plaine de Sorques (réserve naturelle) et Moret
 -sur-Loing\nCatégorie: Sorties randonnée\nLien: https://www.gumsparis.asso
 .fr/index.php?option=com_jem&view=event&id=514:les-etangs-de-la-plaine-de-
 sorques-reserve-naturelle-et-moret-sur-loing\n
DTSTART;TZID=Europe/Paris:20160508T100000
DTEND;TZID=Europe/Paris:20160508T100000
SUMMARY:Les étangs de la Plaine de Sorques (réserve naturelle) et Moret-sur
 -Loing
URL:https://www.gumsparis.asso.fr/index.php?option=com_jem&view=event&id=51
 4:les-etangs-de-la-plaine-de-sorques-reserve-naturelle-et-moret-sur-loing
END:VEVENT
END:VCALENDAR
