BEGIN:VCALENDAR
VERSION:2.0
PRODID:-//213.186.33.4//NONSGML kigkonsult.se iCalcreator 2.20//
CALSCALE:GREGORIAN
METHOD:PUBLISH
X-WR-TIMEZONE:Europe/Paris
BEGIN:VEVENT
UID:event515@GUMS Paris
DTSTAMP:20260421T104513Z
CATEGORIES:Sorties randonnée
DESCRIPTION:St-Rémy-lès-Chevreuse\, Boullay-les-Troux\, Chevreuse.\nCatégor
 ie: Sorties randonnée\nLien: https://www.gumsparis.asso.fr/index.php?optio
 n=com_jem&view=event&id=515:st-remy-les-chevreuse-boullay-les-troux-chevre
 use\n
DTSTART;TZID=Europe/Paris:20160612T100000
DTEND;TZID=Europe/Paris:20160612T100000
SUMMARY:St-Rémy-lès-Chevreuse\, Boullay-les-Troux\, Chevreuse.
URL:https://www.gumsparis.asso.fr/index.php?option=com_jem&view=event&id=51
 5:st-remy-les-chevreuse-boullay-les-troux-chevreuse
END:VEVENT
END:VCALENDAR
