BEGIN:VCALENDAR
VERSION:2.0
PRODID:-//213.186.33.4//NONSGML kigkonsult.se iCalcreator 2.20//
CALSCALE:GREGORIAN
METHOD:PUBLISH
X-WR-TIMEZONE:Europe/Paris
BEGIN:VEVENT
UID:event518@GUMS Paris
DTSTAMP:20260421T104629Z
CATEGORIES:Sorties randonnée
DESCRIPTION:Séjour au VV 'Les Estables' (Massif Central)\nCatégorie: Sortie
 s randonnée\nLien: https://www.gumsparis.asso.fr/index.php?option=com_jem&
 view=event&id=518:dimanche-22-au-samedi-28-mai-2016-au-vvf-les-estables-ma
 ssif-central\n
DTSTART;VALUE=DATE:20160522
DTEND;VALUE=DATE:20160529
SUMMARY:Séjour au VV 'Les Estables' (Massif Central)
URL:https://www.gumsparis.asso.fr/index.php?option=com_jem&view=event&id=51
 8:dimanche-22-au-samedi-28-mai-2016-au-vvf-les-estables-massif-central
END:VEVENT
END:VCALENDAR
