BEGIN:VCALENDAR
VERSION:2.0
PRODID:-//213.186.33.4//NONSGML kigkonsult.se iCalcreator 2.20//
CALSCALE:GREGORIAN
METHOD:PUBLISH
X-WR-TIMEZONE:Europe/Paris
BEGIN:VEVENT
UID:event519@GUMS Paris
DTSTAMP:20260421T104244Z
CATEGORIES:Sorties randonnée
DESCRIPTION:Séjour au VV 'Les Géraniums' (Alsace)\nCatégorie: Sorties rando
 nnée\nLien: https://www.gumsparis.asso.fr/index.php?option=com_jem&view=ev
 ent&id=519:sejour-au-vv-les-geraniums-alsace\n
DTSTART;VALUE=DATE:20161014
DTEND;VALUE=DATE:20161022
SUMMARY:Séjour au VV 'Les Géraniums' (Alsace)
URL:https://www.gumsparis.asso.fr/index.php?option=com_jem&view=event&id=51
 9:sejour-au-vv-les-geraniums-alsace
END:VEVENT
END:VCALENDAR
