BEGIN:VCALENDAR
VERSION:2.0
PRODID:-//213.186.33.4//NONSGML kigkonsult.se iCalcreator 2.20//
CALSCALE:GREGORIAN
METHOD:PUBLISH
X-WR-TIMEZONE:Europe/Paris
BEGIN:VEVENT
UID:event520@GUMS Paris
DTSTAMP:20260421T104340Z
CATEGORIES:Sorties randonnée
DESCRIPTION:'La Randonnée des Sources' à Rousseloy (Oise)\nCatégorie: Sorti
 es randonnée\nLien: https://www.gumsparis.asso.fr/index.php?option=com_jem
 &view=event&id=520:la-randonnee-des-sources-pres-de-rousseloy-oise\n
DTSTART;TZID=Europe/Paris:20160925T100000
DTEND;TZID=Europe/Paris:20160925T100000
SUMMARY:'La Randonnée des Sources' à Rousseloy (Oise)
URL:https://www.gumsparis.asso.fr/index.php?option=com_jem&view=event&id=52
 0:la-randonnee-des-sources-pres-de-rousseloy-oise
END:VEVENT
END:VCALENDAR
