BEGIN:VCALENDAR
VERSION:2.0
PRODID:-//213.186.33.4//NONSGML kigkonsult.se iCalcreator 2.20//
CALSCALE:GREGORIAN
METHOD:PUBLISH
X-WR-TIMEZONE:Europe/Paris
BEGIN:VEVENT
UID:event524@GUMS Paris
DTSTAMP:20260421T103849Z
CATEGORIES:Stage d'initiation
DESCRIPTION:Stage d'initiation à l'escalade\nCatégorie: Stage d'initiation
 \nLien: https://www.gumsparis.asso.fr/index.php?option=com_jem&view=event&
 id=524:stage-initiation-escalade-2016\n
DTSTART;VALUE=DATE:20160911
DTEND;VALUE=DATE:20161017
SUMMARY:Stage d'initiation à l'escalade
URL:https://www.gumsparis.asso.fr/index.php?option=com_jem&view=event&id=52
 4:stage-initiation-escalade-2016
END:VEVENT
END:VCALENDAR
