BEGIN:VCALENDAR
VERSION:2.0
PRODID:-//213.186.33.4//NONSGML kigkonsult.se iCalcreator 2.20//
CALSCALE:GREGORIAN
METHOD:PUBLISH
X-WR-TIMEZONE:Europe/Paris
BEGIN:VEVENT
UID:event526@GUMS Paris
DTSTAMP:20260421T104513Z
CATEGORIES:Sorties Falaises
DESCRIPTION:Week-end du 11 novembre: escalades ariègeoises\nCatégorie: Sort
 ies Falaises\nLien: https://www.gumsparis.asso.fr/index.php?option=com_jem
 &view=event&id=526:week-end-du-11-novembre-escalades-ariegeoises\n
DTSTART;VALUE=DATE:20161111
DTEND;VALUE=DATE:20161114
SUMMARY:Week-end du 11 novembre: escalades ariègeoises
URL:https://www.gumsparis.asso.fr/index.php?option=com_jem&view=event&id=52
 6:week-end-du-11-novembre-escalades-ariegeoises
END:VEVENT
END:VCALENDAR
