BEGIN:VCALENDAR
VERSION:2.0
PRODID:-//213.186.33.4//NONSGML kigkonsult.se iCalcreator 2.20//
CALSCALE:GREGORIAN
METHOD:PUBLISH
X-WR-TIMEZONE:Europe/Paris
BEGIN:VEVENT
UID:event529@GUMS Paris
DTSTAMP:20260421T104340Z
CATEGORIES:Sorties randonnée
DESCRIPTION:Au confluent du Grand-Morin (est de Paris)\nCatégorie: Sorties 
 randonnée\nLien: https://www.gumsparis.asso.fr/index.php?option=com_jem&vi
 ew=event&id=529:au-confluent-du-grand-morin-est-de-paris\n
DTSTART;TZID=Europe/Paris:20161120T101500
DTEND;TZID=Europe/Paris:20161120T101500
SUMMARY:Au confluent du Grand-Morin (est de Paris)
URL:https://www.gumsparis.asso.fr/index.php?option=com_jem&view=event&id=52
 9:au-confluent-du-grand-morin-est-de-paris
END:VEVENT
END:VCALENDAR
