BEGIN:VCALENDAR
VERSION:2.0
PRODID:-//213.186.33.4//NONSGML kigkonsult.se iCalcreator 2.20//
CALSCALE:GREGORIAN
METHOD:PUBLISH
X-WR-TIMEZONE:Europe/Paris
BEGIN:VEVENT
UID:event530@GUMS Paris
DTSTAMP:20260421T104530Z
CATEGORIES:Vie du Club\, Sorties randonnée
DESCRIPTION:Sortie mycologique au Rocher Saint-Germain.\nCatégorie: Vie du 
 Club\, Sorties randonnée\nLien: https://www.gumsparis.asso.fr/index.php?op
 tion=com_jem&view=event&id=530:sortie-mycologique-au-rocher-saint-germain
 \n
DTSTART;VALUE=DATE:20161016
DTEND;VALUE=DATE:20161017
SUMMARY:Sortie mycologique au Rocher Saint-Germain.
URL:https://www.gumsparis.asso.fr/index.php?option=com_jem&view=event&id=53
 0:sortie-mycologique-au-rocher-saint-germain
END:VEVENT
END:VCALENDAR
