BEGIN:VCALENDAR
VERSION:2.0
PRODID:-//213.186.33.4//NONSGML kigkonsult.se iCalcreator 2.20//
CALSCALE:GREGORIAN
METHOD:PUBLISH
X-WR-TIMEZONE:Europe/Paris
BEGIN:VEVENT
UID:event535@GUMS Paris
DTSTAMP:20260421T104401Z
CATEGORIES:Sorties Falaises
DESCRIPTION:Rassemblement d'escalade aux Gorges de la Jonte\nCatégorie: Sor
 ties Falaises\nLien: https://www.gumsparis.asso.fr/index.php?option=com_je
 m&view=event&id=535:rassemblement-d-escalade-aux-gorges-de-la-jonte\n
DTSTART;VALUE=DATE:20161022
DTEND;VALUE=DATE:20161030
SUMMARY:Rassemblement d'escalade aux Gorges de la Jonte
URL:https://www.gumsparis.asso.fr/index.php?option=com_jem&view=event&id=53
 5:rassemblement-d-escalade-aux-gorges-de-la-jonte
END:VEVENT
END:VCALENDAR
