BEGIN:VCALENDAR
VERSION:2.0
PRODID:-//213.186.33.4//NONSGML kigkonsult.se iCalcreator 2.20//
CALSCALE:GREGORIAN
METHOD:PUBLISH
X-WR-TIMEZONE:Europe/Paris
BEGIN:VEVENT
UID:event536@GUMS Paris
DTSTAMP:20260421T104552Z
CATEGORIES:Sorties randonnée
DESCRIPTION:'La Vallée de la Bièvre' à Jouy-en-Josas\nCatégorie: Sorties ra
 ndonnée\nLien: https://www.gumsparis.asso.fr/index.php?option=com_jem&view
 =event&id=536:la-vallee-de-la-bievre-a-jouy-en-josas\n
DTSTART;TZID=Europe/Paris:20161211T100000
DTEND;TZID=Europe/Paris:20161211T100000
SUMMARY:'La Vallée de la Bièvre' à Jouy-en-Josas
URL:https://www.gumsparis.asso.fr/index.php?option=com_jem&view=event&id=53
 6:la-vallee-de-la-bievre-a-jouy-en-josas
END:VEVENT
END:VCALENDAR
