BEGIN:VCALENDAR
VERSION:2.0
PRODID:-//213.186.33.4//NONSGML kigkonsult.se iCalcreator 2.20//
CALSCALE:GREGORIAN
METHOD:PUBLISH
X-WR-TIMEZONE:Europe/Paris
BEGIN:VEVENT
UID:event537@GUMS Paris
DTSTAMP:20260421T103813Z
CATEGORIES:Ski de Rando
DESCRIPTION:Car-couchettes Bourg-Saint-Bernard\nCatégorie: Ski de Rando\nLi
 en: https://www.gumsparis.asso.fr/index.php?option=com_jem&view=event&id=5
 37:bourg-saint-bernard\n
DTSTART;VALUE=DATE:20161210
DTEND;VALUE=DATE:20161212
SUMMARY:Car-couchettes Bourg-Saint-Bernard
URL:https://www.gumsparis.asso.fr/index.php?option=com_jem&view=event&id=53
 7:bourg-saint-bernard
END:VEVENT
END:VCALENDAR
