BEGIN:VCALENDAR
VERSION:2.0
PRODID:-//213.186.33.4//NONSGML kigkonsult.se iCalcreator 2.20//
CALSCALE:GREGORIAN
METHOD:PUBLISH
X-WR-TIMEZONE:Europe/Paris
BEGIN:VEVENT
UID:event540@GUMS Paris
DTSTAMP:20260421T103812Z
CATEGORIES:Ski de Rando
DESCRIPTION:Car-couchettes Abriès\nCatégorie: Ski de Rando\nLien: https://w
 ww.gumsparis.asso.fr/index.php?option=com_jem&view=event&id=540:car-couche
 ttes-abries\n
DTSTART;VALUE=DATE:20170225
DTEND;VALUE=DATE:20170227
SUMMARY:Car-couchettes Abriès
URL:https://www.gumsparis.asso.fr/index.php?option=com_jem&view=event&id=54
 0:car-couchettes-abries
END:VEVENT
END:VCALENDAR
