BEGIN:VCALENDAR
VERSION:2.0
PRODID:-//213.186.33.4//NONSGML kigkonsult.se iCalcreator 2.20//
CALSCALE:GREGORIAN
METHOD:PUBLISH
X-WR-TIMEZONE:Europe/Paris
BEGIN:VEVENT
UID:event542@GUMS Paris
DTSTAMP:20260421T104048Z
CATEGORIES:Ski de Rando
DESCRIPTION:Car-couchettes Bonneval (Maurienne)\nCatégorie: Ski de Rando\nL
 ien: https://www.gumsparis.asso.fr/index.php?option=com_jem&view=event&id=
 542:car-couchettes-bonneval\n
DTSTART;VALUE=DATE:20170325
DTEND;VALUE=DATE:20170327
SUMMARY:Car-couchettes Bonneval (Maurienne)
URL:https://www.gumsparis.asso.fr/index.php?option=com_jem&view=event&id=54
 2:car-couchettes-bonneval
END:VEVENT
END:VCALENDAR
