BEGIN:VCALENDAR
VERSION:2.0
PRODID:-//213.186.33.4//NONSGML kigkonsult.se iCalcreator 2.20//
CALSCALE:GREGORIAN
METHOD:PUBLISH
X-WR-TIMEZONE:Europe/Paris
BEGIN:VEVENT
UID:event543@GUMS Paris
DTSTAMP:20260421T104236Z
CATEGORIES:Ski de Rando
DESCRIPTION:Car-couchettes Grand Paradis\nCatégorie: Ski de Rando\nLien: ht
 tps://www.gumsparis.asso.fr/index.php?option=com_jem&view=event&id=543:car
 -couchettes-grand-paradis\n
DTSTART;VALUE=DATE:20170415
DTEND;VALUE=DATE:20170418
SUMMARY:Car-couchettes Grand Paradis
URL:https://www.gumsparis.asso.fr/index.php?option=com_jem&view=event&id=54
 3:car-couchettes-grand-paradis
END:VEVENT
END:VCALENDAR
