BEGIN:VCALENDAR
VERSION:2.0
PRODID:-//213.186.33.4//NONSGML kigkonsult.se iCalcreator 2.20//
CALSCALE:GREGORIAN
METHOD:PUBLISH
X-WR-TIMEZONE:Europe/Paris
BEGIN:VEVENT
UID:event544@GUMS Paris
DTSTAMP:20260421T104048Z
CATEGORIES:Ski de Rando
DESCRIPTION:Car-couchettes Pralognan\nCatégorie: Ski de Rando\nLien: https:
 //www.gumsparis.asso.fr/index.php?option=com_jem&view=event&id=544:car-cou
 chettes-pralognan\n
DTSTART;VALUE=DATE:20170422
DTEND;VALUE=DATE:20170424
SUMMARY:Car-couchettes Pralognan
URL:https://www.gumsparis.asso.fr/index.php?option=com_jem&view=event&id=54
 4:car-couchettes-pralognan
END:VEVENT
END:VCALENDAR
