BEGIN:VCALENDAR
VERSION:2.0
PRODID:-//213.186.33.4//NONSGML kigkonsult.se iCalcreator 2.20//
CALSCALE:GREGORIAN
METHOD:PUBLISH
X-WR-TIMEZONE:Europe/Paris
BEGIN:VEVENT
UID:event545@GUMS Paris
DTSTAMP:20260421T103813Z
CATEGORIES:Sorties Falaises\, Ski de Rando
DESCRIPTION:Car-couchettes Val d'Aoste\nCatégorie: Sorties Falaises\, Ski d
 e Rando\nLien: https://www.gumsparis.asso.fr/index.php?option=com_jem&view
 =event&id=545:car-couchettes-valpelline\n
DTSTART;VALUE=DATE:20170506
DTEND;VALUE=DATE:20170509
SUMMARY:Car-couchettes Val d'Aoste
URL:https://www.gumsparis.asso.fr/index.php?option=com_jem&view=event&id=54
 5:car-couchettes-valpelline
END:VEVENT
END:VCALENDAR
