BEGIN:VCALENDAR
VERSION:2.0
PRODID:-//213.186.33.4//NONSGML kigkonsult.se iCalcreator 2.20//
CALSCALE:GREGORIAN
METHOD:PUBLISH
X-WR-TIMEZONE:Europe/Paris
BEGIN:VEVENT
UID:event550@GUMS Paris
DTSTAMP:20260421T104530Z
CATEGORIES:Ski de Rando
DESCRIPTION:Pot d'accueil : démarrage de la saison de ski de rando\nCatégor
 ie: Ski de Rando\nLien: https://www.gumsparis.asso.fr/index.php?option=com
 _jem&view=event&id=550:pot-d-accueil-demarrage-de-la-saison-de-ski-de-rand
 o\n
DTSTART;TZID=Europe/Paris:20161103T193000
DTEND;TZID=Europe/Paris:20161103T193000
LOCATION:Perma\,53 rue du Moulin Vert\,75014 Paris
SUMMARY:Pot d'accueil : démarrage de la saison de ski de rando
URL:https://www.gumsparis.asso.fr/index.php?option=com_jem&view=event&id=55
 0:pot-d-accueil-demarrage-de-la-saison-de-ski-de-rando
END:VEVENT
END:VCALENDAR
