BEGIN:VCALENDAR
VERSION:2.0
PRODID:-//213.186.33.4//NONSGML kigkonsult.se iCalcreator 2.20//
CALSCALE:GREGORIAN
METHOD:PUBLISH
X-WR-TIMEZONE:Europe/Paris
BEGIN:VEVENT
UID:event552@GUMS Paris
DTSTAMP:20260421T103749Z
CATEGORIES:Ski de Rando
DESCRIPTION:Entrainement DVA\nCatégorie: Ski de Rando\nLien: https://www.gu
 msparis.asso.fr/index.php?option=com_jem&view=event&id=552:entrainement-dv
 a\n
DTSTART;VALUE=DATE:20161126
DTEND;VALUE=DATE:20161127
SUMMARY:Entrainement DVA
URL:https://www.gumsparis.asso.fr/index.php?option=com_jem&view=event&id=55
 2:entrainement-dva
END:VEVENT
END:VCALENDAR
