BEGIN:VCALENDAR
VERSION:2.0
PRODID:-//213.186.33.4//NONSGML kigkonsult.se iCalcreator 2.20//
CALSCALE:GREGORIAN
METHOD:PUBLISH
X-WR-TIMEZONE:Europe/Paris
BEGIN:VEVENT
UID:event553@GUMS Paris
DTSTAMP:20260421T103848Z
CATEGORIES:Sorties Falaises
DESCRIPTION:Rassemblement Noël à Orpierre\nCatégorie: Sorties Falaises\nLie
 n: https://www.gumsparis.asso.fr/index.php?option=com_jem&view=event&id=55
 3:rassemblement-noel\n
DTSTART;VALUE=DATE:20161226
DTEND;VALUE=DATE:20170102
SUMMARY:Rassemblement Noël à Orpierre
URL:https://www.gumsparis.asso.fr/index.php?option=com_jem&view=event&id=55
 3:rassemblement-noel
END:VEVENT
END:VCALENDAR
