BEGIN:VCALENDAR
VERSION:2.0
PRODID:-//213.186.33.4//NONSGML kigkonsult.se iCalcreator 2.20//
CALSCALE:GREGORIAN
METHOD:PUBLISH
X-WR-TIMEZONE:Europe/Paris
BEGIN:VEVENT
UID:event556@GUMS Paris
DTSTAMP:20260421T103910Z
CATEGORIES:Sorties Falaises
DESCRIPTION:Week-end escalade dans les Calanques\nCatégorie: Sorties Falais
 es\nLien: https://www.gumsparis.asso.fr/index.php?option=com_jem&view=even
 t&id=556:week-end-escalade-dans-les-calanques\n
DTSTART;VALUE=DATE:20170317
DTEND;VALUE=DATE:20170320
SUMMARY:Week-end escalade dans les Calanques
URL:https://www.gumsparis.asso.fr/index.php?option=com_jem&view=event&id=55
 6:week-end-escalade-dans-les-calanques
END:VEVENT
END:VCALENDAR
