BEGIN:VCALENDAR
VERSION:2.0
PRODID:-//213.186.33.4//NONSGML kigkonsult.se iCalcreator 2.20//
CALSCALE:GREGORIAN
METHOD:PUBLISH
X-WR-TIMEZONE:Europe/Paris
BEGIN:VEVENT
UID:event557@GUMS Paris
DTSTAMP:20260421T104145Z
CATEGORIES:Sorties Falaises
DESCRIPTION:Rassemblement de Pâques dans le Verdon\nCatégorie: Sorties Fala
 ises\nLien: https://www.gumsparis.asso.fr/index.php?option=com_jem&view=ev
 ent&id=557:rassemblement-de-paques-dans-le-verdon\n
DTSTART;VALUE=DATE:20170408
DTEND;VALUE=DATE:20170418
SUMMARY:Rassemblement de Pâques dans le Verdon
URL:https://www.gumsparis.asso.fr/index.php?option=com_jem&view=event&id=55
 7:rassemblement-de-paques-dans-le-verdon
END:VEVENT
END:VCALENDAR
