BEGIN:VCALENDAR
VERSION:2.0
PRODID:-//213.186.33.4//NONSGML kigkonsult.se iCalcreator 2.20//
CALSCALE:GREGORIAN
METHOD:PUBLISH
X-WR-TIMEZONE:Europe/Paris
BEGIN:VEVENT
UID:event558@GUMS Paris
DTSTAMP:20260421T104158Z
CATEGORIES:Sorties Falaises
DESCRIPTION:Spring break dans le massif du Caroux\nCatégorie: Sorties Falai
 ses\nLien: https://www.gumsparis.asso.fr/index.php?option=com_jem&view=eve
 nt&id=558:rand-week-end-dans-le-massif-du-caroux\n
DTSTART;VALUE=DATE:20170525
DTEND;VALUE=DATE:20170529
SUMMARY:Spring break dans le massif du Caroux
URL:https://www.gumsparis.asso.fr/index.php?option=com_jem&view=event&id=55
 8:rand-week-end-dans-le-massif-du-caroux
END:VEVENT
END:VCALENDAR
