BEGIN:VCALENDAR
VERSION:2.0
PRODID:-//213.186.33.4//NONSGML kigkonsult.se iCalcreator 2.20//
CALSCALE:GREGORIAN
METHOD:PUBLISH
X-WR-TIMEZONE:Europe/Paris
BEGIN:VEVENT
UID:event561@GUMS Paris
DTSTAMP:20260421T105216Z
CATEGORIES:Sorties randonnée
DESCRIPTION:La coulée verte du sud parisien et le Parc de Sceaux\nCatégorie
 : Sorties randonnée\nLien: https://www.gumsparis.asso.fr/index.php?option=
 com_jem&view=event&id=561:la-coulee-verte-du-sud-parisien-et-le-parc-de-sc
 eaux\n
DTSTART;TZID=Europe/Paris:20170122T100000
DTEND;TZID=Europe/Paris:20170122T100000
SUMMARY:La coulée verte du sud parisien et le Parc de Sceaux
URL:https://www.gumsparis.asso.fr/index.php?option=com_jem&view=event&id=56
 1:la-coulee-verte-du-sud-parisien-et-le-parc-de-sceaux
END:VEVENT
END:VCALENDAR
