BEGIN:VCALENDAR
VERSION:2.0
PRODID:-//213.186.33.4//NONSGML kigkonsult.se iCalcreator 2.20//
CALSCALE:GREGORIAN
METHOD:PUBLISH
X-WR-TIMEZONE:Europe/Paris
BEGIN:VEVENT
UID:event562@GUMS Paris
DTSTAMP:20260421T104530Z
CATEGORIES:Sorties randonnée
DESCRIPTION:le Vexin au Nord de l’Isle Adam\nCatégorie: Sorties randonnée\n
 Lien: https://www.gumsparis.asso.fr/index.php?option=com_jem&view=event&id
 =562:le-vexin-au-nord-de-l-isle-adam\n
DTSTART;TZID=Europe/Paris:20170226T100000
DTEND;TZID=Europe/Paris:20170226T100000
SUMMARY:le Vexin au Nord de l’Isle Adam
URL:https://www.gumsparis.asso.fr/index.php?option=com_jem&view=event&id=56
 2:le-vexin-au-nord-de-l-isle-adam
END:VEVENT
END:VCALENDAR
