BEGIN:VCALENDAR
VERSION:2.0
PRODID:-//213.186.33.4//NONSGML kigkonsult.se iCalcreator 2.20//
CALSCALE:GREGORIAN
METHOD:PUBLISH
X-WR-TIMEZONE:Europe/Paris
BEGIN:VEVENT
UID:event563@GUMS Paris
DTSTAMP:20260421T104519Z
CATEGORIES:Sorties randonnée
DESCRIPTION:La forêt domaniale de Compiègne\, autour des étangs de Saint-Pi
 erre.\nCatégorie: Sorties randonnée\nLien: https://www.gumsparis.asso.fr/i
 ndex.php?option=com_jem&view=event&id=563:la-foret-domaniale-de-compiegne-
 autour-des-etangs-de-saint-pierre\n
DTSTART;TZID=Europe/Paris:20170326T100000
DTEND;TZID=Europe/Paris:20170326T100000
SUMMARY:La forêt domaniale de Compiègne\, autour des étangs de Saint-Pierre
 .
URL:https://www.gumsparis.asso.fr/index.php?option=com_jem&view=event&id=56
 3:la-foret-domaniale-de-compiegne-autour-des-etangs-de-saint-pierre
END:VEVENT
END:VCALENDAR
