BEGIN:VCALENDAR
VERSION:2.0
PRODID:-//213.186.33.4//NONSGML kigkonsult.se iCalcreator 2.20//
CALSCALE:GREGORIAN
METHOD:PUBLISH
X-WR-TIMEZONE:Europe/Paris
BEGIN:VEVENT
UID:event568@GUMS Paris
DTSTAMP:20260421T104048Z
CATEGORIES:Sorties randonnée
DESCRIPTION:La forêt des Étangs de Commelles\nCatégorie: Sorties randonnée
 \nLien: https://www.gumsparis.asso.fr/index.php?option=com_jem&view=event&
 id=568:la-foret-des-etangs-de-commelles\n
DTSTART;TZID=Europe/Paris:20170430T100000
DTEND;TZID=Europe/Paris:20170430T100000
SUMMARY:La forêt des Étangs de Commelles
URL:https://www.gumsparis.asso.fr/index.php?option=com_jem&view=event&id=56
 8:la-foret-des-etangs-de-commelles
END:VEVENT
END:VCALENDAR
