BEGIN:VCALENDAR
VERSION:2.0
PRODID:-//213.186.33.4//NONSGML kigkonsult.se iCalcreator 2.20//
CALSCALE:GREGORIAN
METHOD:PUBLISH
X-WR-TIMEZONE:Europe/Paris
BEGIN:VEVENT
UID:event569@GUMS Paris
DTSTAMP:20260421T104629Z
CATEGORIES:Sorties randonnée
DESCRIPTION:La carte du Tendre en forêt de Fontainebleau \nCatégorie: Sorti
 es randonnée\nLien: https://www.gumsparis.asso.fr/index.php?option=com_jem
 &view=event&id=569:la-carte-du-tendre-en-foret-de-fontainebleau\n
DTSTART;TZID=Europe/Paris:20170611T100000
DTEND;TZID=Europe/Paris:20170611T100000
SUMMARY:La carte du Tendre en forêt de Fontainebleau 
URL:https://www.gumsparis.asso.fr/index.php?option=com_jem&view=event&id=56
 9:la-carte-du-tendre-en-foret-de-fontainebleau
END:VEVENT
END:VCALENDAR
