BEGIN:VCALENDAR
VERSION:2.0
PRODID:-//213.186.33.4//NONSGML kigkonsult.se iCalcreator 2.20//
CALSCALE:GREGORIAN
METHOD:PUBLISH
X-WR-TIMEZONE:Europe/Paris
BEGIN:VEVENT
UID:event570@GUMS Paris
DTSTAMP:20260421T104108Z
CATEGORIES:Sorties randonnée
DESCRIPTION:Les étangs de la Bièvre\nCatégorie: Sorties randonnée\nLien: ht
 tps://www.gumsparis.asso.fr/index.php?option=com_jem&view=event&id=570:les
 -etangs-de-la-bievre\n
DTSTART;TZID=Europe/Paris:20170514T100000
DTEND;TZID=Europe/Paris:20170514T100000
SUMMARY:Les étangs de la Bièvre
URL:https://www.gumsparis.asso.fr/index.php?option=com_jem&view=event&id=57
 0:les-etangs-de-la-bievre
END:VEVENT
END:VCALENDAR
