BEGIN:VCALENDAR
VERSION:2.0
PRODID:-//213.186.33.4//NONSGML kigkonsult.se iCalcreator 2.20//
CALSCALE:GREGORIAN
METHOD:PUBLISH
X-WR-TIMEZONE:Europe/Paris
BEGIN:VEVENT
UID:event571@GUMS Paris
DTSTAMP:20260421T104236Z
CATEGORIES:Sorties randonnée
DESCRIPTION:Séjour à St Savinien (Charente-Maritime)\nCatégorie: Sorties ra
 ndonnée\nLien: https://www.gumsparis.asso.fr/index.php?option=com_jem&view
 =event&id=571:sejour-a-st-savinien-charente-maritime\n
DTSTART;VALUE=DATE:20170527
DTEND;VALUE=DATE:20170604
SUMMARY:Séjour à St Savinien (Charente-Maritime)
URL:https://www.gumsparis.asso.fr/index.php?option=com_jem&view=event&id=57
 1:sejour-a-st-savinien-charente-maritime
END:VEVENT
END:VCALENDAR
