BEGIN:VCALENDAR
VERSION:2.0
PRODID:-//213.186.33.4//NONSGML kigkonsult.se iCalcreator 2.20//
CALSCALE:GREGORIAN
METHOD:PUBLISH
X-WR-TIMEZONE:Europe/Paris
BEGIN:VEVENT
UID:event572@GUMS Paris
DTSTAMP:20260421T104340Z
CATEGORIES:Sorties randonnée
DESCRIPTION:« Par monts et par Vaux de Cernay »\nCatégorie: Sorties randonn
 ée\nLien: https://www.gumsparis.asso.fr/index.php?option=com_jem&view=even
 t&id=572:par-monts-et-par-vaux-de-cernay\n
DTSTART;TZID=Europe/Paris:20170924T100000
DTEND;TZID=Europe/Paris:20170924T100000
SUMMARY:« Par monts et par Vaux de Cernay »
URL:https://www.gumsparis.asso.fr/index.php?option=com_jem&view=event&id=57
 2:par-monts-et-par-vaux-de-cernay
END:VEVENT
END:VCALENDAR
