BEGIN:VCALENDAR
VERSION:2.0
PRODID:-//213.186.33.4//NONSGML kigkonsult.se iCalcreator 2.20//
CALSCALE:GREGORIAN
METHOD:PUBLISH
X-WR-TIMEZONE:Europe/Paris
BEGIN:VEVENT
UID:event573@GUMS Paris
DTSTAMP:20260421T104244Z
CATEGORIES:Vie du Club\, Sorties Falaises\, Sorties randonnée\, Rando sport
 ive
DESCRIPTION:Week-end Inter-Gums au Grand Bornand\nCatégorie: Vie du Club\, 
 Sorties Falaises\, Sorties randonnée\, Rando sportive\nLien: https://www.g
 umsparis.asso.fr/index.php?option=com_jem&view=event&id=573:week-end-inter
 -gums-au-grand-bornand\n
DTSTART;VALUE=DATE:20170603
DTEND;VALUE=DATE:20170606
SUMMARY:Week-end Inter-Gums au Grand Bornand
URL:https://www.gumsparis.asso.fr/index.php?option=com_jem&view=event&id=57
 3:week-end-inter-gums-au-grand-bornand
END:VEVENT
END:VCALENDAR
