BEGIN:VCALENDAR
VERSION:2.0
PRODID:-//213.186.33.4//NONSGML kigkonsult.se iCalcreator 2.20//
CALSCALE:GREGORIAN
METHOD:PUBLISH
X-WR-TIMEZONE:Europe/Paris
BEGIN:VEVENT
UID:event574@GUMS Paris
DTSTAMP:20260421T104513Z
CATEGORIES:Rando sportive
DESCRIPTION:WE Ascension : randonnée sportive en Chartreuse\nCatégorie: Ran
 do sportive\nLien: https://www.gumsparis.asso.fr/index.php?option=com_jem&
 view=event&id=574:we-ascension-randonnee-sportive-en-chartreuse\n
DTSTART;VALUE=DATE:20170525
DTEND;VALUE=DATE:20170529
SUMMARY:WE Ascension : randonnée sportive en Chartreuse
URL:https://www.gumsparis.asso.fr/index.php?option=com_jem&view=event&id=57
 4:we-ascension-randonnee-sportive-en-chartreuse
END:VEVENT
END:VCALENDAR
