BEGIN:VCALENDAR
VERSION:2.0
PRODID:-//213.186.33.4//NONSGML kigkonsult.se iCalcreator 2.20//
CALSCALE:GREGORIAN
METHOD:PUBLISH
X-WR-TIMEZONE:Europe/Paris
BEGIN:VEVENT
UID:event579@GUMS Paris
DTSTAMP:20260421T103749Z
CATEGORIES:Rando sportive
DESCRIPTION:Beaufortain (covoiturage)\nCatégorie: Rando sportive\nLien: htt
 ps://www.gumsparis.asso.fr/index.php?option=com_jem&view=event&id=579:sort
 ie-107\n
DTSTART;VALUE=DATE:20170624
DTEND;VALUE=DATE:20170626
SUMMARY:Beaufortain (covoiturage)
URL:https://www.gumsparis.asso.fr/index.php?option=com_jem&view=event&id=57
 9:sortie-107
END:VEVENT
END:VCALENDAR
