BEGIN:VCALENDAR
VERSION:2.0
PRODID:-//213.186.33.4//NONSGML kigkonsult.se iCalcreator 2.20//
CALSCALE:GREGORIAN
METHOD:PUBLISH
X-WR-TIMEZONE:Europe/Paris
BEGIN:VEVENT
UID:event580@GUMS Paris
DTSTAMP:20260421T104638Z
CATEGORIES:Vie du Club
DESCRIPTION:AG extraordinaire et film « le Doigt de Dieu »\nCatégorie: Vie 
 du Club\nLien: https://www.gumsparis.asso.fr/index.php?option=com_jem&view
 =event&id=580:ag-extraordinaire-et-film-le-doigt-de-dieu\n
DTSTART;TZID=Europe/Paris:20170518T193000
DTEND;TZID=Europe/Paris:20170518T220000
LOCATION:Maison des Associations du XIVe\,76 rue Daguerre\,75014 Paris
SUMMARY:AG extraordinaire et film « le Doigt de Dieu »
URL:https://www.gumsparis.asso.fr/index.php?option=com_jem&view=event&id=58
 0:ag-extraordinaire-et-film-le-doigt-de-dieu
END:VEVENT
END:VCALENDAR
