BEGIN:VCALENDAR
VERSION:2.0
PRODID:-//213.186.33.4//NONSGML kigkonsult.se iCalcreator 2.20//
CALSCALE:GREGORIAN
METHOD:PUBLISH
X-WR-TIMEZONE:Europe/Paris
BEGIN:VEVENT
UID:event584@GUMS Paris
DTSTAMP:20260421T104520Z
CATEGORIES:Vie du Club
DESCRIPTION:Opération nettoyage de vieilles installations à Bleau\nCatégori
 e: Vie du Club\nLien: https://www.gumsparis.asso.fr/index.php?option=com_j
 em&view=event&id=584:operation-nettoyage-de-vieilles-installations-a-bleau
 \n
DTSTART;VALUE=DATE:20171014
DTEND;VALUE=DATE:20171015
SUMMARY:Opération nettoyage de vieilles installations à Bleau
URL:https://www.gumsparis.asso.fr/index.php?option=com_jem&view=event&id=58
 4:operation-nettoyage-de-vieilles-installations-a-bleau
END:VEVENT
END:VCALENDAR
