BEGIN:VCALENDAR
VERSION:2.0
PRODID:-//213.186.33.4//NONSGML kigkonsult.se iCalcreator 2.20//
CALSCALE:GREGORIAN
METHOD:PUBLISH
X-WR-TIMEZONE:Europe/Paris
BEGIN:VEVENT
UID:event586@GUMS Paris
DTSTAMP:20260421T104023Z
CATEGORIES:Sorties Falaises
DESCRIPTION:Rassemblement d'escalade en Ardèche\nCatégorie: Sorties Falaise
 s\nLien: https://www.gumsparis.asso.fr/index.php?option=com_jem&view=event
 &id=586:rassemblement-d-escalade-en-ardeche\n
DTSTART;VALUE=DATE:20171028
DTEND;VALUE=DATE:20171105
SUMMARY:Rassemblement d'escalade en Ardèche
URL:https://www.gumsparis.asso.fr/index.php?option=com_jem&view=event&id=58
 6:rassemblement-d-escalade-en-ardeche
END:VEVENT
END:VCALENDAR
