BEGIN:VCALENDAR
VERSION:2.0
PRODID:-//213.186.33.4//NONSGML kigkonsult.se iCalcreator 2.20//
CALSCALE:GREGORIAN
METHOD:PUBLISH
X-WR-TIMEZONE:Europe/Paris
BEGIN:VEVENT
UID:event596@GUMS Paris
DTSTAMP:20260421T103813Z
CATEGORIES:Ski de Rando
DESCRIPTION:Soirée de lancement saison de ski\nCatégorie: Ski de Rando\nLie
 n: https://www.gumsparis.asso.fr/index.php?option=com_jem&view=event&id=59
 6:soiree-de-lancement-saison-de-ski\n
DTSTART;TZID=Europe/Paris:20171109T193000
DTEND;TZID=Europe/Paris:20171109T193000
LOCATION:Perma\,53 rue du Moulin Vert\,75014 Paris
SUMMARY:Soirée de lancement saison de ski
URL:https://www.gumsparis.asso.fr/index.php?option=com_jem&view=event&id=59
 6:soiree-de-lancement-saison-de-ski
END:VEVENT
END:VCALENDAR
