BEGIN:VCALENDAR
VERSION:2.0
PRODID:-//213.186.33.4//NONSGML kigkonsult.se iCalcreator 2.20//
CALSCALE:GREGORIAN
METHOD:PUBLISH
X-WR-TIMEZONE:Europe/Paris
BEGIN:VEVENT
UID:event601@GUMS Paris
DTSTAMP:20260421T103941Z
CATEGORIES:Ski de Rando
DESCRIPTION:Sortie ski de rando. Destination non fixée (covoiturage)\nCatég
 orie: Ski de Rando\nLien: https://www.gumsparis.asso.fr/index.php?option=c
 om_jem&view=event&id=601:car-couchette-111\n
DTSTART;VALUE=DATE:20171209
DTEND;VALUE=DATE:20171211
SUMMARY:Sortie ski de rando. Destination non fixée (covoiturage)
URL:https://www.gumsparis.asso.fr/index.php?option=com_jem&view=event&id=60
 1:car-couchette-111
END:VEVENT
END:VCALENDAR
