BEGIN:VCALENDAR
VERSION:2.0
PRODID:-//213.186.33.4//NONSGML kigkonsult.se iCalcreator 2.20//
CALSCALE:GREGORIAN
METHOD:PUBLISH
X-WR-TIMEZONE:Europe/Paris
BEGIN:VEVENT
UID:event602@GUMS Paris
DTSTAMP:20260421T103910Z
CATEGORIES:Ski de Rando
DESCRIPTION:Car-couchettes Andermatt\nCatégorie: Ski de Rando\nLien: https:
 //www.gumsparis.asso.fr/index.php?option=com_jem&view=event&id=602:car-cou
 chette-112\n
DTSTART;VALUE=DATE:20171216
DTEND;VALUE=DATE:20171218
SUMMARY:Car-couchettes Andermatt
URL:https://www.gumsparis.asso.fr/index.php?option=com_jem&view=event&id=60
 2:car-couchette-112
END:VEVENT
END:VCALENDAR
