BEGIN:VCALENDAR
VERSION:2.0
PRODID:-//213.186.33.4//NONSGML kigkonsult.se iCalcreator 2.20//
CALSCALE:GREGORIAN
METHOD:PUBLISH
X-WR-TIMEZONE:Europe/Paris
BEGIN:VEVENT
UID:event604@GUMS Paris
DTSTAMP:20260421T103910Z
CATEGORIES:Ski de Rando
DESCRIPTION:Car-couchettes Champsaur\nCatégorie: Ski de Rando\nLien: https:
 //www.gumsparis.asso.fr/index.php?option=com_jem&view=event&id=604:car-cou
 chette-113\n
DTSTART;VALUE=DATE:20180113
DTEND;VALUE=DATE:20180115
SUMMARY:Car-couchettes Champsaur
URL:https://www.gumsparis.asso.fr/index.php?option=com_jem&view=event&id=60
 4:car-couchette-113
END:VEVENT
END:VCALENDAR
