BEGIN:VCALENDAR
VERSION:2.0
PRODID:-//213.186.33.4//NONSGML kigkonsult.se iCalcreator 2.20//
CALSCALE:GREGORIAN
METHOD:PUBLISH
X-WR-TIMEZONE:Europe/Paris
BEGIN:VEVENT
UID:event608@GUMS Paris
DTSTAMP:20260421T103940Z
CATEGORIES:Ski de Rando
DESCRIPTION:Car-couchettes Ubaye\nCatégorie: Ski de Rando\nLien: https://ww
 w.gumsparis.asso.fr/index.php?option=com_jem&view=event&id=608:car-couchet
 te-116\n
DTSTART;VALUE=DATE:20180210
DTEND;VALUE=DATE:20180212
SUMMARY:Car-couchettes Ubaye
URL:https://www.gumsparis.asso.fr/index.php?option=com_jem&view=event&id=60
 8:car-couchette-116
END:VEVENT
END:VCALENDAR
