BEGIN:VCALENDAR
VERSION:2.0
PRODID:-//213.186.33.4//NONSGML kigkonsult.se iCalcreator 2.20//
CALSCALE:GREGORIAN
METHOD:PUBLISH
X-WR-TIMEZONE:Europe/Paris
BEGIN:VEVENT
UID:event61@GUMS Paris
DTSTAMP:20260421T094542Z
CATEGORIES:Ski de Rando
DESCRIPTION:Entrainement aux recherches en avalanche\nCatégorie: Ski de Ran
 do\nLien: https://www.gumsparis.asso.fr/index.php?option=com_jem&view=even
 t&id=61:entainement-aux-recherches-en-avalanche\n
DTSTART;VALUE=DATE:20101127
DTEND;VALUE=DATE:20101128
SUMMARY:Entrainement aux recherches en avalanche
URL:https://www.gumsparis.asso.fr/index.php?option=com_jem&view=event&id=61
 :entainement-aux-recherches-en-avalanche
END:VEVENT
END:VCALENDAR
