BEGIN:VCALENDAR
VERSION:2.0
PRODID:-//213.186.33.4//NONSGML kigkonsult.se iCalcreator 2.20//
CALSCALE:GREGORIAN
METHOD:PUBLISH
X-WR-TIMEZONE:Europe/Paris
BEGIN:VEVENT
UID:event610@GUMS Paris
DTSTAMP:20260421T104023Z
CATEGORIES:Ski de Rando
DESCRIPTION:Car-couchettes Valpelline\nCatégorie: Ski de Rando\nLien: https
 ://www.gumsparis.asso.fr/index.php?option=com_jem&view=event&id=610:car-co
 uchette-118\n
DTSTART;VALUE=DATE:20180324
DTEND;VALUE=DATE:20180326
SUMMARY:Car-couchettes Valpelline
URL:https://www.gumsparis.asso.fr/index.php?option=com_jem&view=event&id=61
 0:car-couchette-118
END:VEVENT
END:VCALENDAR
