BEGIN:VCALENDAR
VERSION:2.0
PRODID:-//213.186.33.4//NONSGML kigkonsult.se iCalcreator 2.20//
CALSCALE:GREGORIAN
METHOD:PUBLISH
X-WR-TIMEZONE:Europe/Paris
BEGIN:VEVENT
UID:event612@GUMS Paris
DTSTAMP:20260421T103947Z
CATEGORIES:Ski de Rando
DESCRIPTION:Car-couchettes Bonneval (Maurienne)\nCatégorie: Ski de Rando\nL
 ien: https://www.gumsparis.asso.fr/index.php?option=com_jem&view=event&id=
 612:car-couchette-119\n
DTSTART;VALUE=DATE:20180407
DTEND;VALUE=DATE:20180409
SUMMARY:Car-couchettes Bonneval (Maurienne)
URL:https://www.gumsparis.asso.fr/index.php?option=com_jem&view=event&id=61
 2:car-couchette-119
END:VEVENT
END:VCALENDAR
