BEGIN:VCALENDAR
VERSION:2.0
PRODID:-//213.186.33.4//NONSGML kigkonsult.se iCalcreator 2.20//
CALSCALE:GREGORIAN
METHOD:PUBLISH
X-WR-TIMEZONE:Europe/Paris
BEGIN:VEVENT
UID:event614@GUMS Paris
DTSTAMP:20260421T103947Z
CATEGORIES:Ski de Rando
DESCRIPTION:Car-couchettes Zermatt - Saas Fee - Fiesch\nCatégorie: Ski de R
 ando\nLien: https://www.gumsparis.asso.fr/index.php?option=com_jem&view=ev
 ent&id=614:car-couchette-126\n
DTSTART;VALUE=DATE:20180428
DTEND;VALUE=DATE:20180502
SUMMARY:Car-couchettes Zermatt - Saas Fee - Fiesch
URL:https://www.gumsparis.asso.fr/index.php?option=com_jem&view=event&id=61
 4:car-couchette-126
END:VEVENT
END:VCALENDAR
