BEGIN:VCALENDAR
VERSION:2.0
PRODID:-//213.186.33.4//NONSGML kigkonsult.se iCalcreator 2.20//
CALSCALE:GREGORIAN
METHOD:PUBLISH
X-WR-TIMEZONE:Europe/Paris
BEGIN:VEVENT
UID:event615@GUMS Paris
DTSTAMP:20260421T104023Z
CATEGORIES:Ski de Rando
DESCRIPTION:Car-couchettes Bernina\nCatégorie: Ski de Rando\nLien: https://
 www.gumsparis.asso.fr/index.php?option=com_jem&view=event&id=615:car-couch
 ette-120\n
DTSTART;VALUE=DATE:20180505
DTEND;VALUE=DATE:20180509
SUMMARY:Car-couchettes Bernina
URL:https://www.gumsparis.asso.fr/index.php?option=com_jem&view=event&id=61
 5:car-couchette-120
END:VEVENT
END:VCALENDAR
