BEGIN:VCALENDAR
VERSION:2.0
PRODID:-//213.186.33.4//NONSGML kigkonsult.se iCalcreator 2.20//
CALSCALE:GREGORIAN
METHOD:PUBLISH
X-WR-TIMEZONE:Europe/Paris
BEGIN:VEVENT
UID:event616@GUMS Paris
DTSTAMP:20260421T103910Z
CATEGORIES:Ski de Rando
DESCRIPTION:Car-couchettes Destination non fixée (covoiturage)\nCatégorie: 
 Ski de Rando\nLien: https://www.gumsparis.asso.fr/index.php?option=com_jem
 &view=event&id=616:car-couchette-121\n
DTSTART;VALUE=DATE:20180519
DTEND;VALUE=DATE:20180522
SUMMARY:Car-couchettes Destination non fixée (covoiturage)
URL:https://www.gumsparis.asso.fr/index.php?option=com_jem&view=event&id=61
 6:car-couchette-121
END:VEVENT
END:VCALENDAR
