BEGIN:VCALENDAR
VERSION:2.0
PRODID:-//213.186.33.4//NONSGML kigkonsult.se iCalcreator 2.20//
CALSCALE:GREGORIAN
METHOD:PUBLISH
X-WR-TIMEZONE:Europe/Paris
BEGIN:VEVENT
UID:event618@GUMS Paris
DTSTAMP:20260421T103947Z
CATEGORIES:Ski de Rando
DESCRIPTION:Météo - montagne\nCatégorie: Ski de Rando\nLien: https://www.gu
 msparis.asso.fr/index.php?option=com_jem&view=event&id=618:meteo-montagne
 \n
DTSTART;TZID=Europe/Paris:20180208T193000
DTEND;TZID=Europe/Paris:20180208T213000
LOCATION:Perma\,53 rue du Moulin Vert\,75014 Paris
SUMMARY:Météo - montagne
URL:https://www.gumsparis.asso.fr/index.php?option=com_jem&view=event&id=61
 8:meteo-montagne
END:VEVENT
END:VCALENDAR
