BEGIN:VCALENDAR
VERSION:2.0
PRODID:-//213.186.33.4//NONSGML kigkonsult.se iCalcreator 2.20//
CALSCALE:GREGORIAN
METHOD:PUBLISH
X-WR-TIMEZONE:Europe/Paris
BEGIN:VEVENT
UID:event622@GUMS Paris
DTSTAMP:20260421T104340Z
CATEGORIES:Rando sportive\, Sorties Falaises
DESCRIPTION:Car-Couchettes escalade dans la Drome (Saou) à la pentecôte\nCa
 tégorie: Rando sportive\, Sorties Falaises\nLien: https://www.gumsparis.as
 so.fr/index.php?option=com_jem&view=event&id=622:escalade-dans-la-drome-sa
 ou-a-la-pentecote\n
DTSTART;TZID=Europe/Paris:20180518T210000
DTEND;TZID=Europe/Paris:20180522T060000
SUMMARY:Car-Couchettes escalade dans la Drome (Saou) à la pentecôte
URL:https://www.gumsparis.asso.fr/index.php?option=com_jem&view=event&id=62
 2:escalade-dans-la-drome-saou-a-la-pentecote
END:VEVENT
END:VCALENDAR
